BEGIN:VCALENDAR
VERSION:2.0
PRODID:-//eventon.com NONSGML v1.0//EN
CALSCALE:GREGORIAN
METHOD:PUBLISH
BEGIN:VEVENT
UID:69ea8031c96d0
DTSTAMP:20260423T202521Z
DTSTART:20200801T000000Z
DTEND:20200801T000000Z
LOCATION:
SUMMARY:Linja-autopäivä 2020
DESCRIPTION:Linja-autopäivä tulee taas! Tapahtuma-aika on kello 10-16 Alu
 stava ohjelma klo 10 linja-autoja alkaa saapua klo 12 miniparaati linja-aut
 oilla Mobilian lähiympäristössä viim. klo 13 paraati saapuu takaisin kl
 o 13.30 Linja-auto 100 vuotta -juhlaparaatin filmi klo 14.30 Tom Rönnbergi
 n luento:Polttomoottori ja sen historia.\nhttps://mobilia.fi/fi/tapahtuma/l
 inja-autopaiva-2020/
URL:https://mobilia.fi/fi/tapahtuma/linja-autopaiva-2020/
END:VEVENT
END:VCALENDAR