BEGIN:VCALENDAR
VERSION:2.0
PRODID:-//eventon.com NONSGML v1.0//EN
CALSCALE:GREGORIAN
METHOD:PUBLISH
BEGIN:VEVENT
UID:69ec148f95eb9
DTSTAMP:20260425T011039Z
DTSTART:20240810
DTEND:20240811
LOCATION:
SUMMARY:Kanttiautokruising 2024
DESCRIPTION:Tampereen Seudun Mobilistit ry järjestää jälleen kesäisen 
 Kanttiautokruisingin Tampereen seudulla lauantaina 10.8.2024. Kanttiautokru
 ising on tarkoitettu todellisille kanttiautoille eli ennen vuotta 1933 valm
 istetuille ajoneuvoille\,  jotka ovat siis täyttäneet vähintään huimat
  90 vuotta! klo 10.30 Kokoontuminen Tampereen Hämeenpuisto klo 11.30 Läht
 ö Hämeenpuistosta (reitti tulee pitkin Kangasalantietä) klo 12.30 Autot 
 esillä Kangasala-talon edustalla[..]\nhttps://mobilia.fi/fi/tapahtuma/kant
 tiautokruising-2024/
URL:https://mobilia.fi/fi/tapahtuma/kanttiautokruising-2024/
END:VEVENT
END:VCALENDAR