BEGIN:VCALENDAR
VERSION:2.0
PRODID:-//eventon.com NONSGML v1.0//EN
CALSCALE:GREGORIAN
METHOD:PUBLISH
BEGIN:VEVENT
UID:69ea59ab6010e
DTSTAMP:20260423T174059Z
DTSTART:20250223T090000Z
DTEND:20250223T140000Z
LOCATION:
SUMMARY:Ladojen talvikokoontuminen 2025
DESCRIPTION:Lada Kerhon perinteistä talvitapahtumaa vietetään tänä vuo
 nna sunnuntaina 23.2.2025 klo 11-16. Se kerää vuosittain kymmeniä Ladoja
  Mobilian piha-alueelle viettämään rentoa talvitapahtumaa. Ohjelmaan kuu
 luu muun muassa kuulumisten vaihtoa sekä yhdistyksen virallinen vuosikokou
 s. Tarkista koko Mobilian Pirkanmaan talvilomaviikon ohjelma täältä.\nht
 tps://mobilia.fi/fi/tapahtuma/ladojen-talvikokoontuminen-2025/
URL:https://mobilia.fi/fi/tapahtuma/ladojen-talvikokoontuminen-2025/
END:VEVENT
END:VCALENDAR