BEGIN:VCALENDAR
VERSION:2.0
PRODID:-//eventon.com NONSGML v1.0//EN
CALSCALE:GREGORIAN
METHOD:PUBLISH
BEGIN:VEVENT
UID:69ea59e5273e1
DTSTAMP:20260423T174157Z
DTSTART:20250301T090000Z
DTEND:20250301T130000Z
LOCATION:
SUMMARY:Perhepäivä Mobiliassa 2025
DESCRIPTION:Tervetuloa ilmaiseen lasten tapahtumaan Mobiliaan lauantaina 1.
 3.2025 klo 11–15! Perheen pienimmille on luvassa erilaista puuhastelua ko
 ko tapahtuman ajan. Luvassa on askartelua\,  leikkiauton katsastuspiste\,  
 Tampereen Pelastakaa lapset ry:n touhupiste ja Studio Piagrinan liikunnalli
 nen sirkustyyppinen non-stop-työpaja klo 12–13.30. Paikalla myös Matroc
 ksien Matti-Klovni ilmapallojensa kera. Valitettavasti Kummit ry:n Tamperee
 n vapaaehtoisten nalle-sairaala on joutunut[..]\nhttps://mobilia.fi/fi/tapa
 htuma/perhepaiva-mobiliassa-2025/
URL:https://mobilia.fi/fi/tapahtuma/perhepaiva-mobiliassa-2025/
END:VEVENT
END:VCALENDAR