BEGIN:VCALENDAR
VERSION:2.0
PRODID:-//eventon.com NONSGML v1.0//EN
CALSCALE:GREGORIAN
METHOD:PUBLISH
BEGIN:VEVENT
UID:69ea59ab53165
DTSTAMP:20260423T174059Z
DTSTART:20250223T093000Z
DTEND:20250223T123000Z
LOCATION:
SUMMARY:Helmikuun brunssi 2025
DESCRIPTION:Mobilian ravintola kattaa tarjolle makoisan brunssin sunnuntain
 a 23.2.2025 klo 11:30-14:30. Tervetuloa herkuttelemaan! Brunssimenu Yrttivi
 hersalaattia ja basilikaöljyä V\,  G Caesarsalaattia ja parmesaanilastuja
  L Perunasalaattia sekä marinoitua punasipulia V\,  G Paahdettuja Välimer
 en kasviksia V\,  G Lämminsavulohta ja tillipestoa M\,  G Leipävalikoima 
 ja levitettä L Feta-pinaattipiirasta L Pekonifrittata L\,  G BBQ-nyhtöpos
 sua L\,  G[..]\nhttps://mobilia.fi/fi/tapahtuma/helmikuun-brunssi-2025/
URL:https://mobilia.fi/fi/tapahtuma/helmikuun-brunssi-2025/
END:VEVENT
END:VCALENDAR