BEGIN:VCALENDAR
VERSION:2.0
PRODID:-//eventon.com NONSGML v1.0//EN
CALSCALE:GREGORIAN
METHOD:PUBLISH
BEGIN:VEVENT
UID:69ea40d315312
DTSTAMP:20260423T155459Z
DTSTART:20250223T080000Z
DTEND:20250302T140000Z
LOCATION:
SUMMARY:Talvilomaviikko Mobiliassa 2025
DESCRIPTION:Pirkanmaan koululaisten talvilomaviikolla 23.2.–2.3.2025 Mobi
 liassa on tarjolla ohjelmaa koko perheelle. Talvilomaviikon tapahtumat Talv
 ilomaviikon alkuun osuu sunnuntaille 23.2.2025 Lada Kerhon perinteistäkin 
 perinteisempi talvikokoontuminen. Luvassa on tuttuun tapaan kuulumisten vai
 htoa ja harraste-Ladojen ihmettelyä. Ladojen talvikokoontuminen on pidetty
  Mobiliassa kerhon perustamisvuodesta 1997 alkaen Kummeli-sketsin innoittam
 ana. Samana päivänä Mobilian ravintola kattaa maukkaan sunnuntaibrunssin
  kahvilaan[..]\nhttps://mobilia.fi/fi/tapahtuma/talvilomaviikko-mobiliassa-
 2025/
URL:https://mobilia.fi/fi/tapahtuma/talvilomaviikko-mobiliassa-2025/
END:VEVENT
END:VCALENDAR