BEGIN:VCALENDAR
VERSION:2.0
PRODID:-//eventon.com NONSGML v1.0//EN
CALSCALE:GREGORIAN
METHOD:PUBLISH
BEGIN:VEVENT
UID:69ea410047fd5
DTSTAMP:20260423T155544Z
DTSTART:20250809T120000Z
DTEND:20250809T150000Z
LOCATION:
SUMMARY:Kanttiautokruising 2025
DESCRIPTION:Tampereen Seudun Mobilistit ry järjestää jälleen kesäisen 
 Kanttiautokruisingin Tampereen seudulla lauantaina 9.8.2025 Kanttiautokruis
 ing on tarkoitettu todellisille kanttiautoille eli ennen vuotta 1933 valmis
 tetuille ajoneuvoille\,  jotka ovat siis täyttäneet vähintään huimat 9
 0 vuotta! Lähtö on printeisesti Hämeenpuistossa. Autot voi nähdä 9.8. 
 klo 10.00-11.30 Hämeenpuistossa\,  ajon aikana Paasikiven ja Kekkosen kadu
 lla\,  Sammon valtatiellä/Vestonkadulla\, [..]\nhttps://mobilia.fi/fi/tapa
 htuma/kanttiautokruising-2025/
URL:https://mobilia.fi/fi/tapahtuma/kanttiautokruising-2025/
END:VEVENT
END:VCALENDAR