BEGIN:VCALENDAR
VERSION:2.0
PRODID:-//eventon.com NONSGML v1.0//EN
CALSCALE:GREGORIAN
METHOD:PUBLISH
BEGIN:VEVENT
UID:69e9eac1bfed2
DTSTAMP:20260423T094745Z
DTSTART:20260808T070000Z
DTEND:20260809T120000Z
LOCATION:
SUMMARY:Kanttiautokruising 2026
DESCRIPTION:Tapahtuman ohjelma päivittyy myöhemmin.\nhttps://mobilia.fi/f
 i/tapahtuma/kanttiautokruising-2026/
URL:https://mobilia.fi/fi/tapahtuma/kanttiautokruising-2026/
END:VEVENT
END:VCALENDAR