BEGIN:VCALENDAR
VERSION:2.0
PRODID:-//eventon.com NONSGML v1.0//EN
CALSCALE:GREGORIAN
METHOD:PUBLISH
BEGIN:VEVENT
UID:69e76e46a676a
DTSTAMP:20260421T123206Z
DTSTART:20260822T050000Z
DTEND:20260822T110000Z
LOCATION:
SUMMARY:Tampereen seudun mobilistien kesäiset Restaurantapäivät & Vehoniemi-ajo 2026
DESCRIPTION:Tapahtuman ohjelma päivittyy myöhemmin.\nhttps://mobilia.fi/f
 i/tapahtuma/tampereen-seudun-mobilistien-kesaiset-restaurantapaivat-vehonie
 mi-ajo/
URL:https://mobilia.fi/fi/tapahtuma/tampereen-seudun-mobilistien-kesaiset-restaurantapaivat-vehoniemi-ajo/
END:VEVENT
END:VCALENDAR