BEGIN:VCALENDAR
VERSION:2.0
PRODID:-//eventon.com NONSGML v1.0//EN
CALSCALE:GREGORIAN
METHOD:PUBLISH
BEGIN:VEVENT
UID:69e76ea4dc350
DTSTAMP:20260421T123340Z
DTSTART:20260822T080000Z
DTEND:20260822T120000Z
LOCATION:
SUMMARY:Mersut. 2026
DESCRIPTION:Suomen Mercedes-Benz Klubi. Tapahtuman ohjelma päivittyy myöh
 emmin.\nhttps://mobilia.fi/fi/tapahtuma/mersut-3/
URL:https://mobilia.fi/fi/tapahtuma/mersut-3/
END:VEVENT
END:VCALENDAR