BEGIN:VCALENDAR
VERSION:2.0
PRODID:-//eventon.com NONSGML v1.0//EN
CALSCALE:GREGORIAN
METHOD:PUBLISH
BEGIN:VEVENT
UID:69e593377b484
DTSTAMP:20260420T024511Z
DTSTART:20260331T070000Z
DTEND:20260428T130000Z
LOCATION:
SUMMARY:Hannu Kylä-Laaso: Raapustuksia vuosien varrelta
DESCRIPTION:Huhtikuussa Mobilian Minikabinetissa on nähtävillä taidenäy
 ttely Hannu Kylä-Laaso: Raapustuksia vuosien varrelta. Hannu Kylä-Laaso o
 n jo usean vuosikymmenen ajan ehtinyt harrastamaan taidetta. Lyijykynäpiir
 ustukset ovat hänelle mieluisin tapa työskennellä. Lyijykynällä hän p
 ääsee keskittymään valojen ja varjojen leikkiin. Kylä-Laaso on tunnett
 u teoksistaan\,  jotka kuvaavat mennyttä aikaa Kangasalla. Usein teokset o
 vat saaneet inspiraationsa vanhoista[..]\nhttps://mobilia.fi/fi/tapahtuma/h
 annu-kyla-laaso-raapustuksia-vuosien-varrelta/
URL:https://mobilia.fi/fi/tapahtuma/hannu-kyla-laaso-raapustuksia-vuosien-varrelta/
END:VEVENT
END:VCALENDAR