BEGIN:VCALENDAR
VERSION:2.0
PRODID:-//eventon.com NONSGML v1.0//EN
CALSCALE:GREGORIAN
METHOD:PUBLISH
BEGIN:VEVENT
UID:69e63365ec79e
DTSTAMP:20260420T140837Z
DTSTART:20260501T080000Z
DTEND:20260501T120000Z
LOCATION:
SUMMARY:Mobilian vappu 2026
DESCRIPTION:Mobiliassa tapahtuu vapunpäivänä perjantaina 1.5.2026! Rahta
 rit-liikennepuiston kesäkausi startataan käyntiin! Liikennepuisto on avoi
 nna klo 11–15. Kesäkauden on avaamassa Rahtareiden ja Kummit ry:n yhteis
 työnä Teemu-nalle! Rahtarit-liikennepuisto  on tarkoitettu 4–12-vuotia
 ille\,  maksu 3 €/15 min. Ravintola Mobilia kattaa vappubrunssin klo 12 a
 lkaen. Brunssin hinta: 35\, 50 € 7-12- vuotiaat 15\, 50 € alle 7-vuotia
 at 1 €/ikävuosi[..]\nhttps://mobilia.fi/fi/tapahtuma/mobilian-vappu-2026
 /
URL:https://mobilia.fi/fi/tapahtuma/mobilian-vappu-2026/
END:VEVENT
END:VCALENDAR