BEGIN:VCALENDAR
VERSION:2.0
PRODID:-//eventon.com NONSGML v1.0//EN
CALSCALE:GREGORIAN
METHOD:PUBLISH
BEGIN:VEVENT
UID:69eb8249a4d7a
DTSTAMP:20260424T144633Z
DTSTART:20260501T070000Z
DTEND:20260531T130000Z
LOCATION:
SUMMARY:Jaana Saarinen ja Marjukka Loponen: Ajan Virrassa
DESCRIPTION:Toukokuussa Mobilian Minikabinetissa on nähtävillä Jaana Saa
 risen ja Marjukka Loposen kiertävä taidenäyttely: Ajan Virrassa. Näytte
 ly johdattaa katsojan eläinten\,  ihmisten ja elollisten olioiden hetken t
 ilanteisiin\,  tunteisiin ja tuntemuksiin. Hetken pysähdys työn äärelle
  saa aistin heräämään\,  tuntemaan tuoksun\,  maun\,  hajun tai vaikkap
 a jonkun tuntemuksen. Tekniikoina taiteilijat ovat käyttäneet\,  akryyliv
 ärejä\,  sekatekniikkaa ja hiiltä.[..]\nhttps://mobilia.fi/fi/tapahtuma/
 jaana-saarinen-ja-marjukka-loponen-ajan-virrassa/
URL:https://mobilia.fi/fi/tapahtuma/jaana-saarinen-ja-marjukka-loponen-ajan-virrassa/
END:VEVENT
END:VCALENDAR