BEGIN:VCALENDAR
VERSION:2.0
PRODID:-//eventon.com NONSGML v1.0//EN
CALSCALE:GREGORIAN
METHOD:PUBLISH
BEGIN:VEVENT
UID:69e6f05bd050f
DTSTAMP:20260421T033451Z
DTSTART:20190817T000000Z
DTEND:20190817T000000Z
LOCATION:
SUMMARY:Rautalankaa ja jenkkirautoja 2019
DESCRIPTION:Jo yhdeksännen kerran järjestettävä Rautalankaa ja jenkkira
 utoja -tapahtuma kokoaa jälleen jenkkiautoharrastajat Mobiliaan. Tarjolla 
 on tuttuun tapaan jenkkiautoja\,  letkeää musiikkia\,  vintagelöytöjä 
 ja illan huipennuksena mahtavan cruisingin! Tapahtumassa esiintymässä Fla
 min&#8217; Star\,  Poledance Piagrina\,  Tanssiseura Swing Team ry\,  Three
  Kisses\,  Pin-Up Petrols! Tapahtumaan Mobilian piha-alueelle on ilmainen s
 isäänpääsy. Päivän ohjelma (Huom! Ohjelma-ajat ovat[..]\nhttps://mobi
 lia.fi/fi/tapahtuma/rautalankaa-ja-jenkkirautoja-2019/
URL:https://mobilia.fi/fi/tapahtuma/rautalankaa-ja-jenkkirautoja-2019/
END:VEVENT
END:VCALENDAR