BEGIN:VCALENDAR
VERSION:2.0
PRODID:-//eventon.com NONSGML v1.0//EN
CALSCALE:GREGORIAN
METHOD:PUBLISH
BEGIN:VEVENT
UID:69ea40b2ea28a
DTSTAMP:20260423T155426Z
DTSTART:20220514T080000Z
DTEND:20220514T110000Z
LOCATION:
SUMMARY:Minipäivä
DESCRIPTION:Museon ulkoalueelle kerääntyvät ministit perheineen esittele
 vät harrasteajoneuvojaan\,  vaihtavat kuulumisia pitkän talven jälkeen j
 a nauttivat alkavasta kesäkaudesta. Kyseessä on ulkoilmatapahtuma. Tapaht
 uma-aika klo 11–14. Tapahtuman järjestää Mini Club Flying Finns ry.\nh
 ttps://mobilia.fi/fi/tapahtuma/minipaiva/
URL:https://mobilia.fi/fi/tapahtuma/minipaiva/
END:VEVENT
END:VCALENDAR