BEGIN:VCALENDAR
VERSION:2.0
PRODID:-//eventon.com NONSGML v1.0//EN
CALSCALE:GREGORIAN
METHOD:PUBLISH
BEGIN:VEVENT
UID:69ec121592a53
DTSTAMP:20260425T010005Z
DTSTART:20230701
DTEND:20230702
LOCATION:
SUMMARY:Volvokerhon ja Pyhimyskerhon kesÃ¤pÃ¤ivÃ¤ 2023
DESCRIPTION:1.7.2023 klo 10-15 Volvo-kerhojen kesÃ¤tapaaminen kerÃ¤Ã¤ jouko
 n alan harrastajia yhteen viettÃ¤mÃ¤Ã¤n mukavaa kesÃ¤pÃ¤ivÃ¤Ã¤ yhteisen har
 rastuksen innoittamana. Tapahtuman pÃ¤Ã¤sisÃ¤ltÃ¶nÃ¤ on vaihtaa kuulumisia\
 ,  suunnitella kesÃ¤n muihin tapahtumiin osallistumisia\,  esitellÃ¤ ja keh
 ua omaa Volvoa ja ihailla muiden vastaavia menopelejÃ¤. Saattaapa joku avat
 a takakonttinsa ja tehdÃ¤ pientÃ¤ rompetorikauppaakin. Tapahtuman jÃ¤rjestÃ
 ¤Ã¤ Suomen Volvokerho ry ja[..]\nhttps://mobilia.fi/fi/tapahtuma/volvokerho
 n-ja-pyhimyskerhon-kesapaiva/
URL:https://mobilia.fi/fi/tapahtuma/volvokerhon-ja-pyhimyskerhon-kesapaiva/
END:VEVENT
END:VCALENDAR