BEGIN:VCALENDAR
VERSION:2.0
PRODID:-//eventon.com NONSGML v1.0//EN
CALSCALE:GREGORIAN
METHOD:PUBLISH
BEGIN:VEVENT
UID:69e99368819f8
DTSTAMP:20260423T033504Z
DTSTART:20230720T120000Z
DTEND:20230720T160000Z
LOCATION:
SUMMARY:Lasten Festarit 2023
DESCRIPTION:Tervetuloa Lasten Festareille Mobilian pihapiiriin koko perheen
  voimin 20.7.2023 klo 15-19! Luvassa on hauskaa tekemistÃ¤ monenikÃ¤iselle 
 ja tietenkin myÃ¶s herkuttelua. Alueelta lÃ¶ydÃ¤t mm ðŸŒ¸ Pomppupuiston pom
 ppulinnoja ðŸŒž Kepparirata (voit ottaa oman ratsun mukaan) ðŸŒ¸ Piagrinan 
 kiipeilypiste ðŸŒž Temppurata ðŸŒ¸ Pelasta NÃ¤sijÃ¤rvi roskista -tyÃ¶paja ð
 ŸŒž Pikkuautojen katsastuspiste ðŸŒ¸ Mobilian leikkikenttÃ¤ ja[..]\nhttps:/
 /mobilia.fi/fi/tapahtuma/lasten-festarit/
URL:https://mobilia.fi/fi/tapahtuma/lasten-festarit/
END:VEVENT
END:VCALENDAR