BEGIN:VCALENDAR
VERSION:2.0
PRODID:-//eventon.com NONSGML v1.0//EN
CALSCALE:GREGORIAN
METHOD:PUBLISH
BEGIN:VEVENT
UID:69e723f324828
DTSTAMP:20260421T071459Z
DTSTART:20220814T070000Z
DTEND:20220814T110000Z
LOCATION:
SUMMARY:Britit kohtaavat
DESCRIPTION:Kaikkien brittiautomerkkien yhteinen Britit kohtaavat -tapahtum
 a järjestetään sunnuntaina 14.8.2022 klo 10–14 Mobiliassa. Tervetuloa!
  Järjestäjä: Triumph Cars of Finland\nhttps://mobilia.fi/fi/tapahtuma/br
 itit-kohtaavat/
URL:https://mobilia.fi/fi/tapahtuma/britit-kohtaavat/
END:VEVENT
END:VCALENDAR