BEGIN:VCALENDAR
VERSION:2.0
PRODID:-//eventon.com NONSGML v1.0//EN
CALSCALE:GREGORIAN
METHOD:PUBLISH
BEGIN:VEVENT
UID:69ea40d31b356
DTSTAMP:20260423T155459Z
DTSTART:20220811T140000Z
DTEND:20220811T190000Z
LOCATION:
SUMMARY:Museoiden ilta Mobiliassa
DESCRIPTION:Kangasalan Museoiden ilta järjestetään torstaina 11.8.2022 k
 lo 17-22. Mobilian kaikki näyttelykohteet ovat avoinna koko tapahtuman aja
 n. Liikennepuisto on avoinna klo 18 asti\,  happyhour klo 17–18. Kahvila 
 avoinna klo 20 asti. Museoiden illan yleisöopastukset: klo 17 ja 18 perheo
 pastus Suomi liikkeelle 1920-luvulla -näyttelyyn klo 18.30 opastettu tutus
 tuminen Tarinoita siirtotyömailta -ulkoaluenäyttelyyn klo[..]\nhttps://mo
 bilia.fi/fi/tapahtuma/museoiden-ilta-mobiliassa/
URL:https://mobilia.fi/fi/tapahtuma/museoiden-ilta-mobiliassa/
END:VEVENT
END:VCALENDAR